BEGIN:VCALENDAR
VERSION:2.0
PRODID:-//Brighter Generation - ECPv6.8.1//NONSGML v1.0//EN
CALSCALE:GREGORIAN
METHOD:PUBLISH
X-ORIGINAL-URL:https://brightergeneration.info
X-WR-CALDESC:Events for Brighter Generation
REFRESH-INTERVAL;VALUE=DURATION:PT1H
X-Robots-Tag:noindex
X-PUBLISHED-TTL:PT1H
BEGIN:VTIMEZONE
TZID:UTC
BEGIN:STANDARD
TZOFFSETFROM:+0000
TZOFFSETTO:+0000
TZNAME:UTC
DTSTART:20240101T000000
END:STANDARD
END:VTIMEZONE
BEGIN:VEVENT
DTSTART;VALUE=DATE:20240601
DTEND;VALUE=DATE:20240602
DTSTAMP:20260421T060555
CREATED:20230413T174109Z
LAST-MODIFIED:20231026T102853Z
UID:10335-1717200000-1717286399@brightergeneration.info
SUMMARY:Virtual Program Starts
DESCRIPTION:Virtual program is scheduled to start on June 2024.
URL:https://brightergeneration.info/event/start-of-the-second-year-virtual-program/
LOCATION:Online
CATEGORIES:BG Teachnig
END:VEVENT
END:VCALENDAR